BEGIN:VCALENDAR
VERSION:2.0
PRODID:-//SNOBAHN - ECPv6.15.20//NONSGML v1.0//EN
CALSCALE:GREGORIAN
METHOD:PUBLISH
X-WR-CALNAME:SNOBAHN
X-ORIGINAL-URL:https://snobahn.com
X-WR-CALDESC:Events for SNOBAHN
REFRESH-INTERVAL;VALUE=DURATION:PT1H
X-Robots-Tag:noindex
X-PUBLISHED-TTL:PT1H
BEGIN:VTIMEZONE
TZID:America/Denver
BEGIN:DAYLIGHT
TZOFFSETFROM:-0700
TZOFFSETTO:-0600
TZNAME:MDT
DTSTART:20250309T090000
END:DAYLIGHT
BEGIN:STANDARD
TZOFFSETFROM:-0600
TZOFFSETTO:-0700
TZNAME:MST
DTSTART:20251102T080000
END:STANDARD
BEGIN:DAYLIGHT
TZOFFSETFROM:-0700
TZOFFSETTO:-0600
TZNAME:MDT
DTSTART:20260308T090000
END:DAYLIGHT
BEGIN:STANDARD
TZOFFSETFROM:-0600
TZOFFSETTO:-0700
TZNAME:MST
DTSTART:20261101T080000
END:STANDARD
BEGIN:DAYLIGHT
TZOFFSETFROM:-0700
TZOFFSETTO:-0600
TZNAME:MDT
DTSTART:20270314T090000
END:DAYLIGHT
BEGIN:STANDARD
TZOFFSETFROM:-0600
TZOFFSETTO:-0700
TZNAME:MST
DTSTART:20271107T080000
END:STANDARD
END:VTIMEZONE
BEGIN:VEVENT
DTSTART;TZID=America/Denver:20260318T170000
DTEND;TZID=America/Denver:20260318T210000
DTSTAMP:20260422T164147
CREATED:20251002T042732Z
LAST-MODIFIED:20251002T042732Z
UID:28248-1773853200-1773867600@snobahn.com
SUMMARY:Tunes and Brews at 105 West Brewing Company
DESCRIPTION:Looking for a ski and snowboard tuning event in Denver? Tunes by SNÖBAHN pros and brews by 105 West Brewing Company- $35 tunes\, beer ticket\, and après-ski vibes. First come\, first serve.
URL:https://snobahn.com/event/tunes-and-brews-at-105-west-brewing-company-5/
LOCATION:105 West Brewing Company\, 1043 Park St\, Castle Rock\, CO\, 80109\, United States
CATEGORIES:Tunes and Brews
ATTACH;FMTTYPE=image/jpeg:https://snobahn.com/wp-content/uploads/2025/10/tb-updated-105.jpg
END:VEVENT
BEGIN:VEVENT
DTSTART;TZID=America/Denver:20260310T170000
DTEND;TZID=America/Denver:20260310T210000
DTSTAMP:20260422T164147
CREATED:20251002T041848Z
LAST-MODIFIED:20251002T041848Z
UID:28240-1773162000-1773176400@snobahn.com
SUMMARY:Tunes and Brews at Renegade Brewing
DESCRIPTION:Looking for a ski and snowboard tuning event in Denver? Tunes by SNÖBAHN pros and brews by Renegade Brewing – $35 tunes\, beer ticket\, and après-ski vibes. First come\, first serve.
URL:https://snobahn.com/event/tunes-and-brews-at-renegade-brewing-5/
LOCATION:Renegade Brewing\, 925 W 9th Ave\, Denver\, CO\, 80204\, United States
CATEGORIES:Tunes and Brews
ATTACH;FMTTYPE=image/jpeg:https://snobahn.com/wp-content/uploads/2025/10/tb-at-renegade-header.jpg
END:VEVENT
BEGIN:VEVENT
DTSTART;TZID=America/Denver:20260217T170000
DTEND;TZID=America/Denver:20260217T210000
DTSTAMP:20260422T164147
CREATED:20251002T042648Z
LAST-MODIFIED:20251002T042648Z
UID:28245-1771347600-1771362000@snobahn.com
SUMMARY:Tunes and Brews at 105 West Brewing Company
DESCRIPTION:Looking for a ski and snowboard tuning event in Denver? Tunes by SNÖBAHN pros and brews by 105 West Brewing Company- $35 tunes\, beer ticket\, and après-ski vibes. First come\, first serve.
URL:https://snobahn.com/event/tunes-and-brews-at-105-west-brewing-company-4/
LOCATION:105 West Brewing Company\, 1043 Park St\, Castle Rock\, CO\, 80109\, United States
CATEGORIES:Tunes and Brews
ATTACH;FMTTYPE=image/jpeg:https://snobahn.com/wp-content/uploads/2025/10/tb-updated-105.jpg
END:VEVENT
BEGIN:VEVENT
DTSTART;TZID=America/Denver:20260210T170000
DTEND;TZID=America/Denver:20260210T210000
DTSTAMP:20260422T164147
CREATED:20251002T041752Z
LAST-MODIFIED:20260210T231919Z
UID:28239-1770742800-1770757200@snobahn.com
SUMMARY:(Cancelled) Tunes and Brews at Renegade Brewing
DESCRIPTION:Looking for a ski and snowboard tuning event in Denver? Tunes by SNÖBAHN pros and brews by Renegade Brewing – $35 tunes\, beer ticket\, and après-ski vibes. First come\, first serve. \nThis event on Feb. 10 has been cancelled. We apologize for any inconvenience.
URL:https://snobahn.com/event/tunes-and-brews-at-renegade-brewing-4/
LOCATION:Renegade Brewing\, 925 W 9th Ave\, Denver\, CO\, 80204\, United States
CATEGORIES:Tunes and Brews
ATTACH;FMTTYPE=image/jpeg:https://snobahn.com/wp-content/uploads/2025/10/tb-at-renegade-header.jpg
END:VEVENT
END:VCALENDAR