BEGIN:VCALENDAR
VERSION:2.0
PRODID:-//SNOBAHN - ECPv6.15.20//NONSGML v1.0//EN
CALSCALE:GREGORIAN
METHOD:PUBLISH
X-ORIGINAL-URL:https://snobahn.com
X-WR-CALDESC:Events for SNOBAHN
REFRESH-INTERVAL;VALUE=DURATION:PT1H
X-Robots-Tag:noindex
X-PUBLISHED-TTL:PT1H
BEGIN:VTIMEZONE
TZID:America/Denver
BEGIN:DAYLIGHT
TZOFFSETFROM:-0700
TZOFFSETTO:-0600
TZNAME:MDT
DTSTART:20250309T090000
END:DAYLIGHT
BEGIN:STANDARD
TZOFFSETFROM:-0600
TZOFFSETTO:-0700
TZNAME:MST
DTSTART:20251102T080000
END:STANDARD
BEGIN:DAYLIGHT
TZOFFSETFROM:-0700
TZOFFSETTO:-0600
TZNAME:MDT
DTSTART:20260308T090000
END:DAYLIGHT
BEGIN:STANDARD
TZOFFSETFROM:-0600
TZOFFSETTO:-0700
TZNAME:MST
DTSTART:20261101T080000
END:STANDARD
BEGIN:DAYLIGHT
TZOFFSETFROM:-0700
TZOFFSETTO:-0600
TZNAME:MDT
DTSTART:20270314T090000
END:DAYLIGHT
BEGIN:STANDARD
TZOFFSETFROM:-0600
TZOFFSETTO:-0700
TZNAME:MST
DTSTART:20271107T080000
END:STANDARD
END:VTIMEZONE
BEGIN:VEVENT
DTSTART;TZID=America/Denver:20260503T130000
DTEND;TZID=America/Denver:20260503T170000
DTSTAMP:20260422T055241
CREATED:20251020T201750Z
LAST-MODIFIED:20251021T033930Z
UID:28282-1777813200-1777827600@snobahn.com
SUMMARY:Flight Club (Freestyle Competition)
DESCRIPTION:FLIGHT CLUB | SNÖBAHN Freestyle Competition Series \nTake your skills to new heights at SNÖBAHN’s Flight Club\, our annual freestyle competition series celebrating creativity\, style\, and progression. Riders of all ages are invited to compete in two main events\, The Freestyle Open and The Best Trick Showdown\, for prizes\, memberships\, and bragging rights. \nWhether you’re throwing your first spin or perfecting your double\, Flight Club is about sending it\, cheering each other on\, and pushing what’s possible in a fun\, supportive environment. \nEntry: $20 per participant via our registration link \nTime: 1:00 – 5:00 PM (Check-in 12:30 – 1:00 PM) \nAges: 5–12 and 13+ \nBring your best tricks\, your friends\, and your energy — it’s time to take flight! \nRegister Now
URL:https://snobahn.com/event/flight-club-freestyle-competition-2/
LOCATION:THORNTON CENTER\, 14200 LINCOLN ST.\, THORNTON\, CO\, 80023\, United States
CATEGORIES:Flight Club,Thornton
ATTACH;FMTTYPE=image/png:https://snobahn.com/wp-content/uploads/2025/10/Flight-Club-Comp-Series_Event-Header-WebFB.png
END:VEVENT
END:VCALENDAR